BEGIN:VCALENDAR
VERSION:2.0
PRODID:-//Tulln - Stadt des Miteinanders - ECPv6.15.20//NONSGML v1.0//EN
CALSCALE:GREGORIAN
METHOD:PUBLISH
X-WR-CALNAME:Tulln - Stadt des Miteinanders
X-ORIGINAL-URL:https://www.stadtdesmiteinanders.at
X-WR-CALDESC:Veranstaltungen für Tulln - Stadt des Miteinanders
REFRESH-INTERVAL;VALUE=DURATION:PT1H
X-Robots-Tag:noindex
X-PUBLISHED-TTL:PT1H
BEGIN:VTIMEZONE
TZID:Europe/Berlin
BEGIN:DAYLIGHT
TZOFFSETFROM:+0100
TZOFFSETTO:+0200
TZNAME:CEST
DTSTART:20250330T010000
END:DAYLIGHT
BEGIN:STANDARD
TZOFFSETFROM:+0200
TZOFFSETTO:+0100
TZNAME:CET
DTSTART:20251026T010000
END:STANDARD
BEGIN:DAYLIGHT
TZOFFSETFROM:+0100
TZOFFSETTO:+0200
TZNAME:CEST
DTSTART:20260329T010000
END:DAYLIGHT
BEGIN:STANDARD
TZOFFSETFROM:+0200
TZOFFSETTO:+0100
TZNAME:CET
DTSTART:20261025T010000
END:STANDARD
BEGIN:DAYLIGHT
TZOFFSETFROM:+0100
TZOFFSETTO:+0200
TZNAME:CEST
DTSTART:20270328T010000
END:DAYLIGHT
BEGIN:STANDARD
TZOFFSETFROM:+0200
TZOFFSETTO:+0100
TZNAME:CET
DTSTART:20271031T010000
END:STANDARD
END:VTIMEZONE
BEGIN:VEVENT
DTSTART;TZID=Europe/Berlin:20260425T140000
DTEND;TZID=Europe/Berlin:20260425T170000
DTSTAMP:20260424T140923
CREATED:20260415T072424Z
LAST-MODIFIED:20260416T083037Z
UID:10004839-1777125600-1777136400@www.stadtdesmiteinanders.at
SUMMARY:„Junge Leute“\, „altes Haus“ - Big 30er Party
DESCRIPTION:Herzliche Einladung zu:  \n „Junge Leute“\, „altes Haus“ – Big 30er Party am 25.04.2026  \nWir öffnen die Türen für alle Kulturinteressierte\, Eltern\, Freunde\, Ehemalige\,… zu einem außergewöhnlichen Nachmittag voller Musik und Gemeinschaft! \nFeiern Sie/feiert mit uns „30 Jahre Musikschule\, Kindergarten\, Stadtkapelle und a cappella chor im \nKapuzinerkloster“ und 30 Jahre Elternverein der Musikschule. \n  \nUm 14 Uhr geht es los mit einen Festakt im Kapuzinersaal\, anschließend wird gefeiert! \nBewirtung (Grillerei und Kuchenbuffet) erfolgt durch Stadtkapelle und Elternverein\, eine Hüpfburg für die \nKleinen wird es im Kindergartengarten geben und der Nachmittag wird selbstverständlich musikalisch umrahmt. \n 
URL:https://www.stadtdesmiteinanders.at/event/junge-leute-altes-haus-big-30er-party/
LOCATION:KMusikschule Tulln Kapuzinerkloster\, Hauptplatz 16\, Tulln\, 3430
ATTACH;FMTTYPE=image/jpeg:https://www.stadtdesmiteinanders.at/wp-content/uploads/2026/04/Kapuzinerkloster-neu-1-scaled.jpg
END:VEVENT
END:VCALENDAR